BEGIN:VCALENDAR
VERSION:2.0
PRODID:-//Psychologist - ECPv6.15.16//NONSGML v1.0//EN
CALSCALE:GREGORIAN
METHOD:PUBLISH
X-WR-CALNAME:Psychologist
X-ORIGINAL-URL:https://sweet-hofstadter.159-89-18-30.plesk.page
X-WR-CALDESC:Events for Psychologist
REFRESH-INTERVAL;VALUE=DURATION:PT1H
X-Robots-Tag:noindex
X-PUBLISHED-TTL:PT1H
BEGIN:VTIMEZONE
TZID:UTC
BEGIN:STANDARD
TZOFFSETFROM:+0000
TZOFFSETTO:+0000
TZNAME:UTC
DTSTART:20170101T000000
END:STANDARD
END:VTIMEZONE
BEGIN:VEVENT
DTSTART;TZID=UTC:20180301T093000
DTEND;TZID=UTC:20180303T163000
DTSTAMP:20260422T224113
CREATED:20171006T130152Z
LAST-MODIFIED:20260324T154252Z
UID:683-1519896600-1520094600@sweet-hofstadter.159-89-18-30.plesk.page
SUMMARY:Formare în evaluarea competențelor nou-născutului (aplicarea scalei Brazelton) | 1 – 2 – 3 martie 2018
DESCRIPTION:Zile de lucru: \n1 – 2 – 3 martie 2018\, de la ora 10.00 la 18.00\, cu pauză de prânz de la 13.00 la 14.30. \nPrezentări: \n– Vulnerabilitățile și capacitățile de reglare ale bebelușului.\n– Dezvoltarea nou-născutului în primii doi ani de viață. \nSe asigură traducerea.\nTaxa de participare este de 430 lei. \nLocul de desfășurare: Hotel Internațional\, Str. Căuzași nr. 27 \nWorkshop-ul răspunde nevoilor profesioniștilor care învață și observă organizarea psihică precoce\, părinților pentru care examinarea reprezintă un suport de încredere în capacitatea de a fi părinți și un suport de identificare cu empatia și calmul examinatorului\, răspunde nevoilor nou-născutului pentru că i se recunosc nevoile și i se amenajează un mediu adaptat acestor nevoi. \nÎntâlnirea din 1 – 3 martie este prima din cele trei organizate de dna Drina Candilis-Huisman\, formator recunoscut în Franța în prezentarea\, aplicarea și formarea în această metodă de evaluare. \nPrima parte a formării se bazează pe descrierea metodei și pe suporturi video care ilustrează metoda.\nA doua și a treia parte a formării vizează aplicarea practică de către profesioniștii în formare a scalei în lucru cu bebeluși din maternitate. \nDetalii la telefon 0751 277 045
URL:https://sweet-hofstadter.159-89-18-30.plesk.page/event/formare-in-evaluarea-competentelor-nou-nascutului-aplicarea-scalei-brazelton-1-2-3-martie-2018/
LOCATION:Therapy Center\, 123\, New Lenox\, Chicago\, 60606
CATEGORIES:Psychological Trainings
ATTACH;FMTTYPE=image/jpeg:https://sweet-hofstadter.159-89-18-30.plesk.page/wp-content/uploads/2016/04/post-1.jpg
END:VEVENT
END:VCALENDAR